Workbook

Sheet Audit
A1: Carrier invoice audit
A2: One row per invoice. Expected charges rebuild from the Rates sheet and your contract; variances and flags compute.
A4: Tolerance per invoice | B4: 1
A5: Free time before detention (hours) | B5: 2
A6: Detention rate per hour | B6: 75
A9: Invoice no. | B9: Carrier | C9: Shipment / BOL ref. | D9: Invoice date | E9: Lane | F9: Contract linehaul | G9: Invoiced linehaul | H9: Linehaul variance | I9: Contract FSC % | J9: Expected fuel | K9: Invoiced fuel | L9: Fuel variance | M9: Hours at stop | N9: Expected detention | O9: Invoiced detention | P9: Accessorials contracted | Q9: Accessorials invoiced | R9: Expected total | S9: Invoiced total | T9: Total variance | U9: Flag | V9: Status | W9: Notes
A10: INV-4471 | B10: Example Carrier Ltd | C10: BOL 88213 | D10: 46297 | E10: Lyon-Milan | F10: =IF(E10="","",IFERROR(VLOOKUP(E10,Rates!$A$5:$C$204,2,FALSE),"")) | G10: 1200 | H10: =IF(OR(F10="",G10=""),"",G10-F10) | I10: 0.22 | J10: =IF(F10="","",N(F10)*N(I10)) | K10: 303.6 | L10: =IF(J10="","",N(K10)-J10) | M10: 3 | N10: =IF(M10="","",MAX(0,N(M10)-$B$5)*$B$6) | O10: 75 | P10: 45 | Q10: 105 | R10: =IF(F10="","",N(F10)+N(J10)+N(N10)+N(P10)) | S10: 1728.6 | T10: =IF(OR(R10="",S10=""),"",S10-R10) | U10: =IF(T10="","",IF(T10>$B$4,IF(H10>$B$4,"Linehaul over",IF(L10>$B$4,"Fuel over",IF(N(O10)-N(N10)>$B$4,"Detention over",IF(N(Q10)-N(P10)>$B$4,"Accessorials over","Total over")))),IF(T10<-$B$4,"Under-billed","OK"))) | V10: To review | W10: Fuel applied to accessorials; residential not ordered. Delete this row.
F11: =IF(E11="","",IFERROR(VLOOKUP(E11,Rates!$A$5:$C$204,2,FALSE),"")) | H11: =IF(OR(F11="",G11=""),"",G11-F11) | J11: =IF(F11="","",N(F11)*N(I11)) | L11: =IF(J11="","",N(K11)-J11) | N11: =IF(M11="","",MAX(0,N(M11)-$B$5)*$B$6) | R11: =IF(F11="","",N(F11)+N(J11)+N(N11)+N(P11)) | T11: =IF(OR(R11="",S11=""),"",S11-R11) | U11: =IF(T11="","",IF(T11>$B$4,IF(H11>$B$4,"Linehaul over",IF(L11>$B$4,"Fuel over",IF(N(O11)-N(N11)>$B$4,"Detention over",IF(N(Q11)-N(P11)>$B$4,"Accessorials over","Total over")))),IF(T11<-$B$4,"Under-billed","OK")))
F12: =IF(E12="","",IFERROR(VLOOKUP(E12,Rates!$A$5:$C$204,2,FALSE),"")) | H12: =IF(OR(F12="",G12=""),"",G12-F12) | J12: =IF(F12="","",N(F12)*N(I12)) | L12: =IF(J12="","",N(K12)-J12) | N12: =IF(M12="","",MAX(0,N(M12)-$B$5)*$B$6) | R12: =IF(F12="","",N(F12)+N(J12)+N(N12)+N(P12)) | T12: =IF(OR(R12="",S12=""),"",S12-R12) | U12: =IF(T12="","",IF(T12>$B$4,IF(H12>$B$4,"Linehaul over",IF(L12>$B$4,"Fuel over",IF(N(O12)-N(N12)>$B$4,"Detention over",IF(N(Q12)-N(P12)>$B$4,"Accessorials over","Total over")))),IF(T12<-$B$4,"Under-billed","OK")))
F13: =IF(E13="","",IFERROR(VLOOKUP(E13,Rates!$A$5:$C$204,2,FALSE),"")) | H13: =IF(OR(F13="",G13=""),"",G13-F13) | J13: =IF(F13="","",N(F13)*N(I13)) | L13: =IF(J13="","",N(K13)-J13) | N13: =IF(M13="","",MAX(0,N(M13)-$B$5)*$B$6) | R13: =IF(F13="","",N(F13)+N(J13)+N(N13)+N(P13)) | T13: =IF(OR(R13="",S13=""),"",S13-R13) | U13: =IF(T13="","",IF(T13>$B$4,IF(H13>$B$4,"Linehaul over",IF(L13>$B$4,"Fuel over",IF(N(O13)-N(N13)>$B$4,"Detention over",IF(N(Q13)-N(P13)>$B$4,"Accessorials over","Total over")))),IF(T13<-$B$4,"Under-billed","OK")))
F14: =IF(E14="","",IFERROR(VLOOKUP(E14,Rates!$A$5:$C$204,2,FALSE),"")) | H14: =IF(OR(F14="",G14=""),"",G14-F14) | J14: =IF(F14="","",N(F14)*N(I14)) | L14: =IF(J14="","",N(K14)-J14) | N14: =IF(M14="","",MAX(0,N(M14)-$B$5)*$B$6) | R14: =IF(F14="","",N(F14)+N(J14)+N(N14)+N(P14)) | T14: =IF(OR(R14="",S14=""),"",S14-R14) | U14: =IF(T14="","",IF(T14>$B$4,IF(H14>$B$4,"Linehaul over",IF(L14>$B$4,"Fuel over",IF(N(O14)-N(N14)>$B$4,"Detention over",IF(N(Q14)-N(P14)>$B$4,"Accessorials over","Total over")))),IF(T14<-$B$4,"Under-billed","OK")))
F15: =IF(E15="","",IFERROR(VLOOKUP(E15,Rates!$A$5:$C$204,2,FALSE),"")) | H15: =IF(OR(F15="",G15=""),"",G15-F15) | J15: =IF(F15="","",N(F15)*N(I15)) | L15: =IF(J15="","",N(K15)-J15) | N15: =IF(M15="","",MAX(0,N(M15)-$B$5)*$B$6) | R15: =IF(F15="","",N(F15)+N(J15)+N(N15)+N(P15)) | T15: =IF(OR(R15="",S15=""),"",S15-R15) | U15: =IF(T15="","",IF(T15>$B$4,IF(H15>$B$4,"Linehaul over",IF(L15>$B$4,"Fuel over",IF(N(O15)-N(N15)>$B$4,"Detention over",IF(N(Q15)-N(P15)>$B$4,"Accessorials over","Total over")))),IF(T15<-$B$4,"Under-billed","OK")))
F16: =IF(E16="","",IFERROR(VLOOKUP(E16,Rates!$A$5:$C$204,2,FALSE),"")) | H16: =IF(OR(F16="",G16=""),"",G16-F16) | J16: =IF(F16="","",N(F16)*N(I16)) | L16: =IF(J16="","",N(K16)-J16) | N16: =IF(M16="","",MAX(0,N(M16)-$B$5)*$B$6) | R16: =IF(F16="","",N(F16)+N(J16)+N(N16)+N(P16)) | T16: =IF(OR(R16="",S16=""),"",S16-R16) | U16: =IF(T16="","",IF(T16>$B$4,IF(H16>$B$4,"Linehaul over",IF(L16>$B$4,"Fuel over",IF(N(O16)-N(N16)>$B$4,"Detention over",IF(N(Q16)-N(P16)>$B$4,"Accessorials over","Total over")))),IF(T16<-$B$4,"Under-billed","OK")))
F17: =IF(E17="","",IFERROR(VLOOKUP(E17,Rates!$A$5:$C$204,2,FALSE),"")) | H17: =IF(OR(F17="",G17=""),"",G17-F17) | J17: =IF(F17="","",N(F17)*N(I17)) | L17: =IF(J17="","",N(K17)-J17) | N17: =IF(M17="","",MAX(0,N(M17)-$B$5)*$B$6) | R17: =IF(F17="","",N(F17)+N(J17)+N(N17)+N(P17)) | T17: =IF(OR(R17="",S17=""),"",S17-R17) | U17: =IF(T17="","",IF(T17>$B$4,IF(H17>$B$4,"Linehaul over",IF(L17>$B$4,"Fuel over",IF(N(O17)-N(N17)>$B$4,"Detention over",IF(N(Q17)-N(P17)>$B$4,"Accessorials over","Total over")))),IF(T17<-$B$4,"Under-billed","OK")))
F18: =IF(E18="","",IFERROR(VLOOKUP(E18,Rates!$A$5:$C$204,2,FALSE),"")) | H18: =IF(OR(F18="",G18=""),"",G18-F18) | J18: =IF(F18="","",N(F18)*N(I18)) | L18: =IF(J18="","",N(K18)-J18) | N18: =IF(M18="","",MAX(0,N(M18)-$B$5)*$B$6) | R18: =IF(F18="","",N(F18)+N(J18)+N(N18)+N(P18)) | T18: =IF(OR(R18="",S18=""),"",S18-R18) | U18: =IF(T18="","",IF(T18>$B$4,IF(H18>$B$4,"Linehaul over",IF(L18>$B$4,"Fuel over",IF(N(O18)-N(N18)>$B$4,"Detention over",IF(N(Q18)-N(P18)>$B$4,"Accessorials over","Total over")))),IF(T18<-$B$4,"Under-billed","OK")))
F19: =IF(E19="","",IFERROR(VLOOKUP(E19,Rates!$A$5:$C$204,2,FALSE),"")) | H19: =IF(OR(F19="",G19=""),"",G19-F19) | J19: =IF(F19="","",N(F19)*N(I19)) | L19: =IF(J19="","",N(K19)-J19) | N19: =IF(M19="","",MAX(0,N(M19)-$B$5)*$B$6) | R19: =IF(F19="","",N(F19)+N(J19)+N(N19)+N(P19)) | T19: =IF(OR(R19="",S19=""),"",S19-R19) | U19: =IF(T19="","",IF(T19>$B$4,IF(H19>$B$4,"Linehaul over",IF(L19>$B$4,"Fuel over",IF(N(O19)-N(N19)>$B$4,"Detention over",IF(N(Q19)-N(P19)>$B$4,"Accessorials over","Total over")))),IF(T19<-$B$4,"Under-billed","OK")))
F20: =IF(E20="","",IFERROR(VLOOKUP(E20,Rates!$A$5:$C$204,2,FALSE),"")) | H20: =IF(OR(F20="",G20=""),"",G20-F20) | J20: =IF(F20="","",N(F20)*N(I20)) | L20: =IF(J20="","",N(K20)-J20) | N20: =IF(M20="","",MAX(0,N(M20)-$B$5)*$B$6) | R20: =IF(F20="","",N(F20)+N(J20)+N(N20)+N(P20)) | T20: =IF(OR(R20="",S20=""),"",S20-R20) | U20: =IF(T20="","",IF(T20>$B$4,IF(H20>$B$4,"Linehaul over",IF(L20>$B$4,"Fuel over",IF(N(O20)-N(N20)>$B$4,"Detention over",IF(N(Q20)-N(P20)>$B$4,"Accessorials over","Total over")))),IF(T20<-$B$4,"Under-billed","OK")))
F21: =IF(E21="","",IFERROR(VLOOKUP(E21,Rates!$A$5:$C$204,2,FALSE),"")) | H21: =IF(OR(F21="",G21=""),"",G21-F21) | J21: =IF(F21="","",N(F21)*N(I21)) | L21: =IF(J21="","",N(K21)-J21) | N21: =IF(M21="","",MAX(0,N(M21)-$B$5)*$B$6) | R21: =IF(F21="","",N(F21)+N(J21)+N(N21)+N(P21)) | T21: =IF(OR(R21="",S21=""),"",S21-R21) | U21: =IF(T21="","",IF(T21>$B$4,IF(H21>$B$4,"Linehaul over",IF(L21>$B$4,"Fuel over",IF(N(O21)-N(N21)>$B$4,"Detention over",IF(N(Q21)-N(P21)>$B$4,"Accessorials over","Total over")))),IF(T21<-$B$4,"Under-billed","OK")))
F22: =IF(E22="","",IFERROR(VLOOKUP(E22,Rates!$A$5:$C$204,2,FALSE),"")) | H22: =IF(OR(F22="",G22=""),"",G22-F22) | J22: =IF(F22="","",N(F22)*N(I22)) | L22: =IF(J22="","",N(K22)-J22) | N22: =IF(M22="","",MAX(0,N(M22)-$B$5)*$B$6) | R22: =IF(F22="","",N(F22)+N(J22)+N(N22)+N(P22)) | T22: =IF(OR(R22="",S22=""),"",S22-R22) | U22: =IF(T22="","",IF(T22>$B$4,IF(H22>$B$4,"Linehaul over",IF(L22>$B$4,"Fuel over",IF(N(O22)-N(N22)>$B$4,"Detention over",IF(N(Q22)-N(P22)>$B$4,"Accessorials over","Total over")))),IF(T22<-$B$4,"Under-billed","OK")))
... F509: =IF(E509="","",IFERROR(VLOOKUP(E509,Rates!$A$5:$C$204,2,FALSE),"")) | H509: =IF(OR(F509="",G509=""),"",G509-F509) | J509: =IF(F509="","",N(F509)*N(I509)) | L509: =IF(J509="","",N(K509)-J509) | N509: =IF(M509="","",MAX(0,N(M509)-$B$5)*$B$6) | R509: =IF(F509="","",N(F509)+N(J509)+N(N509)+N(P509)) | T509: =IF(OR(R509="",S509=""),"",S509-R509) | U509: =IF(T509="","",IF(T509>$B$4,IF(H509>$B$4,"Linehaul over",IF(L509>$B$4,"Fuel over",IF(N(O509)-N(N509)>$B$4,"Detention over",IF(N(Q509)-N(P509)>$B$4,"Accessorials over","Total over")))),IF(T509<-$B$4,"Under-billed","OK")))

Sheet Rates
A1: Contracted rates by lane
A2: The Audit sheet looks the linehaul up here by lane name. Type lanes exactly as on the Audit sheet.
A4: Lane | B4: Contract linehaul | C4: Notes (equipment, weight break, validity)
A5: Lyon-Milan | B5: 1200 | C5: Example lane: 13.6 m curtainsider, valid to 2026-12-31. Delete this row.

Sheet Instructions
A1: How to use this carrier invoice audit template
A2: 1. On the Rates sheet, list each lane with its contracted linehaul. On the Audit sheet, set your tolerance, free time and detention rate at the top.
A3: 2. One row per invoice: carrier, shipment reference, lane (spelled as on the Rates sheet), the invoiced linehaul, the contract fuel percentage, the invoiced fuel, the hours at the stop from the POD, the invoiced detention, the accessorials contracted and invoiced, and the invoice total.
A4: 3. The sheet rebuilds the expected linehaul, fuel, detention and total, computes each variance and names the first line over tolerance in the Flag column. Rows over tolerance turn red; clean rows turn green.
A5: 4. Set the status as you work: To review, Approved, Short-paid, Disputed, Credited. Keep the carrier's answer in Notes.
A6: The first row is a filled example: delete it. Mirage's agents read the invoice, the rate confirmation and the POD and fill this audit before payment: miragemetrics.com/logistics/freight-invoice-audit
A8: Mirage Metrics free template, miragemetrics.com/tools. Free to use and adapt.
